BEGIN:VCALENDAR
VERSION:2.0
PRODID:-//BW Filsum//Kalender//DE
BEGIN:VEVENT
UID:17a8d03f0d9d0a6db0eef51f190f0518@bwfilsum.de
DTSTAMP:20260422T173000
DTSTART:20260422T173000
SUMMARY:E-Mädchen vs. SG TiMoNo
DESCRIPTION:Gegner: SG TiMoNo\nWeitere Infos: http://blau-weiss-filsum.de/index.php?option=com_termineverein&view=einterminread&id=1718
URL:http://blau-weiss-filsum.de/index.php?option=com_termineverein&view=einterminread&id=1718
END:VEVENT
END:VCALENDAR
